BEGIN:VCALENDAR
VERSION:2.0
PRODID:-//St Mary Magdalene Church Hucknall - ECPv6.15.20//NONSGML v1.0//EN
CALSCALE:GREGORIAN
METHOD:PUBLISH
X-WR-CALNAME:St Mary Magdalene Church Hucknall
X-ORIGINAL-URL:http://hucknallparishchurch.org.uk
X-WR-CALDESC:Events for St Mary Magdalene Church Hucknall
REFRESH-INTERVAL;VALUE=DURATION:PT1H
X-Robots-Tag:noindex
X-PUBLISHED-TTL:PT1H
BEGIN:VTIMEZONE
TZID:Europe/London
BEGIN:DAYLIGHT
TZOFFSETFROM:+0000
TZOFFSETTO:+0100
TZNAME:BST
DTSTART:20240331T010000
END:DAYLIGHT
BEGIN:STANDARD
TZOFFSETFROM:+0100
TZOFFSETTO:+0000
TZNAME:GMT
DTSTART:20241027T010000
END:STANDARD
BEGIN:DAYLIGHT
TZOFFSETFROM:+0000
TZOFFSETTO:+0100
TZNAME:BST
DTSTART:20250330T010000
END:DAYLIGHT
BEGIN:STANDARD
TZOFFSETFROM:+0100
TZOFFSETTO:+0000
TZNAME:GMT
DTSTART:20251026T010000
END:STANDARD
BEGIN:DAYLIGHT
TZOFFSETFROM:+0000
TZOFFSETTO:+0100
TZNAME:BST
DTSTART:20260329T010000
END:DAYLIGHT
BEGIN:STANDARD
TZOFFSETFROM:+0100
TZOFFSETTO:+0000
TZNAME:GMT
DTSTART:20261025T010000
END:STANDARD
END:VTIMEZONE
BEGIN:VEVENT
DTSTART;TZID=Europe/London:20251214T160000
DTEND;TZID=Europe/London:20251214T170000
DTSTAMP:20260419T154359
CREATED:20211126T081324Z
LAST-MODIFIED:20251129T130818Z
UID:4611-1765728000-1765731600@hucknallparishchurch.org.uk
SUMMARY:Christingle 2025 at St John the Evangelist
DESCRIPTION:We welcome you to join us on Sunday 14th December\, 4pm at St John the Evangelist church\, for our Christingle – a Christmas Service for the whole family. \nChristingle means ‘Christ Light’ and is used to celebrate Jesus Christ as the “Light of the World”. \nStarted by The Children’s Society\, the Chrsitingle is a symbol to help children understand the importance of Jesus and the Gospel and their relevance at Christmas. \nDuring the service\, the congregation all ‘build’ a Christingle and learn about the four elements which make it*: \n• An orange represents the world\n• A red ribbon or red tape represents the blood of Christ\n• Four sweets represent the fruits of God’s creation\n• A lit candle represents Jesus as the light of the world \n*All materials are supplied by church and will be handed to you when you arrive.
URL:http://hucknallparishchurch.org.uk/event/christingle-2025-at-st-john-the-evangelist/
LOCATION:St John the Evangelist Church\, 2 Nottingham Road\, Hucknall\, Nottinghamshire\, NG157QL\, United Kingdom
CATEGORIES:Advent,Children,Christmas,Families,Mission,Nurture,Outreach,Things to do in Hucknall,Worship
ATTACH;FMTTYPE=image/jpeg:http://hucknallparishchurch.org.uk/wp-content/uploads/2025/11/StMM-winter-25-AW-3-christmas-first-1.jpg
END:VEVENT
BEGIN:VEVENT
DTSTART;TZID=Europe/London:20251221T190000
DTEND;TZID=Europe/London:20251221T200000
DTSTAMP:20260419T154359
CREATED:20201128T174038Z
LAST-MODIFIED:20251129T130616Z
UID:3676-1766343600-1766347200@hucknallparishchurch.org.uk
SUMMARY:Christmas Candlelight Carol Service 2025
DESCRIPTION:You are invited to join us for our 2025 Christmas Candlelight Carol Service at St Mary Magdalene Church on Sunday 21st December\, 7-8pm. \nMore details to follow…
URL:http://hucknallparishchurch.org.uk/event/christmas-candlelight-carol-service-2025/
LOCATION:St Mary Magdalene Church\, Market Place\, Hucknall\, Nottinghamshire\, NG15 7AS
CATEGORIES:Advent,Children,Christmas,Families,Outreach,Things to do in Hucknall,Worship
ATTACH;FMTTYPE=image/jpeg:http://hucknallparishchurch.org.uk/wp-content/uploads/2025/11/StMM-winter-25-AW-3-christmas-first-1.jpg
END:VEVENT
BEGIN:VEVENT
DTSTART;TZID=Europe/London:20251223T101500
DTEND;TZID=Europe/London:20251223T111500
DTSTAMP:20260419T154359
CREATED:20251129T131911Z
LAST-MODIFIED:20251129T134444Z
UID:6304-1766484900-1766488500@hucknallparishchurch.org.uk
SUMMARY:Service of Holy Communion celebrating Christmas
DESCRIPTION:There will be an on-site Service of Holy Communion celebrating Christmas at St Mary Magdalene Church\, this Tuesday 23rd December 2025\, beginning at 10:15am. \n2025 COVID guidelines for STMM with STJE: \nCOVID is still with us. Please treat others with respect. Hand sanitiser is available.
URL:http://hucknallparishchurch.org.uk/event/service-of-holy-communion-celebrating-christmas/
CATEGORIES:Christmas,Communion,Outreach,Things to do in Hucknall,Worship
ATTACH;FMTTYPE=image/jpeg:http://hucknallparishchurch.org.uk/wp-content/uploads/2025/11/StMM-winter-25-AW-3-christmas-first-1.jpg
END:VEVENT
BEGIN:VEVENT
DTSTART;TZID=Europe/London:20251224T150000
DTEND;TZID=Europe/London:20251224T160000
DTSTAMP:20260419T154359
CREATED:20201128T174117Z
LAST-MODIFIED:20251129T130247Z
UID:3678-1766588400-1766592000@hucknallparishchurch.org.uk
SUMMARY:Christmas Eve Crib Service 1
DESCRIPTION:Crib Service – a celebration of Christmas designed for families with the chance to dress up as a king\, Wise Man\, shepherd or angel. \nFurther details will follow shortly – please check back soon.
URL:http://hucknallparishchurch.org.uk/event/christmas-eve-crib-service-1/
LOCATION:St Mary Magdalene Church\, Market Place\, Hucknall\, Nottinghamshire\, NG15 7AS
CATEGORIES:Children,Christmas,Families,Outreach,Things to do in Hucknall,Worship
ATTACH;FMTTYPE=image/jpeg:http://hucknallparishchurch.org.uk/wp-content/uploads/2025/11/StMM-winter-25-AW-3-christmas-first-1.jpg
END:VEVENT
BEGIN:VEVENT
DTSTART;TZID=Europe/London:20251224T163000
DTEND;TZID=Europe/London:20251224T173000
DTSTAMP:20260419T154359
CREATED:20201128T174130Z
LAST-MODIFIED:20251129T130154Z
UID:3680-1766593800-1766597400@hucknallparishchurch.org.uk
SUMMARY:Christmas Eve Crib Service 2
DESCRIPTION:Crib Service – a celebration of Christmas designed for families with the chance to dress up as a king\, Wise Man\, shepherd or angel. \nFurther details will follow shortly – please check back soon.
URL:http://hucknallparishchurch.org.uk/event/christmas-eve-crib-service-2/
LOCATION:St Mary Magdalene Church\, Market Place\, Hucknall\, Nottinghamshire\, NG15 7AS
CATEGORIES:Children,Christmas,Families,Outreach,Things to do in Hucknall,Worship
ATTACH;FMTTYPE=image/jpeg:http://hucknallparishchurch.org.uk/wp-content/uploads/2025/11/StMM-winter-25-AW-3-christmas-first-1.jpg
END:VEVENT
BEGIN:VEVENT
DTSTART;TZID=Europe/London:20251224T233000
DTEND;TZID=Europe/London:20251225T003000
DTSTAMP:20260419T154359
CREATED:20201128T174056Z
LAST-MODIFIED:20251129T134527Z
UID:3682-1766619000-1766622600@hucknallparishchurch.org.uk
SUMMARY:Midnight Mass 2025
DESCRIPTION:There will be an on-site Service of Midnight Mass at St Mary Magdalene Church\, Wednesday 24th December\, beginning at 11.30pm. \n2025 COVID guidelines for STMM with STJE: \nCOVID is still with us. Please treat others with respect. Hand sanitiser is available.
URL:http://hucknallparishchurch.org.uk/event/midnight-mass-2025/
LOCATION:St Mary Magdalene Church\, Market Place\, Hucknall\, Nottinghamshire\, NG15 7AS
CATEGORIES:Christmas,Families,Outreach,Things to do in Hucknall,Worship
ATTACH;FMTTYPE=image/jpeg:http://hucknallparishchurch.org.uk/wp-content/uploads/2025/11/StMM-winter-25-AW-3-christmas-first-1.jpg
END:VEVENT
BEGIN:VEVENT
DTSTART;TZID=Europe/London:20251225T100000
DTEND;TZID=Europe/London:20251225T110000
DTSTAMP:20260419T154359
CREATED:20251129T132433Z
LAST-MODIFIED:20251129T132433Z
UID:6306-1766656800-1766660400@hucknallparishchurch.org.uk
SUMMARY:Christmas Day 2025 Holy Communion Service
DESCRIPTION:There will be an on-site Christmas Day 2025 Service of Holy Communion at St Mary Magdalene Church\, this Thursday 25th December 2025\, beginning at 10am. \n2025 COVID guidelines for STMM with STJE: \nCOVID is still with us. Please treat others with respect. Hand sanitiser is available.
URL:http://hucknallparishchurch.org.uk/event/christmas-day-2025-holy-communion-service/
LOCATION:St Mary Magdalene Church\, Market Place\, Hucknall\, Nottinghamshire\, NG15 7AS
CATEGORIES:Children,Christmas,Communion,Families,Outreach,Things to do in Hucknall,Worship
ATTACH;FMTTYPE=image/jpeg:http://hucknallparishchurch.org.uk/wp-content/uploads/2025/11/StMM-winter-25-AW-3-christmas-first-1.jpg
END:VEVENT
END:VCALENDAR