BEGIN:VCALENDAR
VERSION:2.0
PRODID:-//St Mary Magdalene Church Hucknall - ECPv6.15.20//NONSGML v1.0//EN
CALSCALE:GREGORIAN
METHOD:PUBLISH
X-WR-CALNAME:St Mary Magdalene Church Hucknall
X-ORIGINAL-URL:http://hucknallparishchurch.org.uk
X-WR-CALDESC:Events for St Mary Magdalene Church Hucknall
REFRESH-INTERVAL;VALUE=DURATION:PT1H
X-Robots-Tag:noindex
X-PUBLISHED-TTL:PT1H
BEGIN:VTIMEZONE
TZID:Europe/London
BEGIN:DAYLIGHT
TZOFFSETFROM:+0000
TZOFFSETTO:+0100
TZNAME:BST
DTSTART:20240331T010000
END:DAYLIGHT
BEGIN:STANDARD
TZOFFSETFROM:+0100
TZOFFSETTO:+0000
TZNAME:GMT
DTSTART:20241027T010000
END:STANDARD
BEGIN:DAYLIGHT
TZOFFSETFROM:+0000
TZOFFSETTO:+0100
TZNAME:BST
DTSTART:20250330T010000
END:DAYLIGHT
BEGIN:STANDARD
TZOFFSETFROM:+0100
TZOFFSETTO:+0000
TZNAME:GMT
DTSTART:20251026T010000
END:STANDARD
BEGIN:DAYLIGHT
TZOFFSETFROM:+0000
TZOFFSETTO:+0100
TZNAME:BST
DTSTART:20260329T010000
END:DAYLIGHT
BEGIN:STANDARD
TZOFFSETFROM:+0100
TZOFFSETTO:+0000
TZNAME:GMT
DTSTART:20261025T010000
END:STANDARD
END:VTIMEZONE
BEGIN:VEVENT
DTSTART;TZID=Europe/London:20251203T170000
DTEND;TZID=Europe/London:20251206T121500
DTSTAMP:20260421T075050
CREATED:20191130T160749Z
LAST-MODIFIED:20251129T134815Z
UID:2021-1764781200-1765023300@hucknallparishchurch.org.uk
SUMMARY:Hucknall Christmas Tree Festival 2025
DESCRIPTION:St Mary Magdalene church invite you all to the 2025 Hucknall Christmas Tree Festival! \nThis will be the 16th anniversary of this wonderful event. \nWednesday 3rd December 5pm – 7.30pm\nThursday and Friday\, 4th and 5th December 9.30am – 7.30pm\nSaturday 6th December 9.30am – 12 noon \nIt’s getting more and more popular\, each year\, with our festival attracting thousands of visitors! \nWe’d like to thank you once again for helping to make it so successful and invite you to take part in this year’s festive event. \nThe event takes place in St Mary Magdalene Church and opens at 5pm on Wednesday 3rd and closes on Saturday 6th December. \nAll proceeds from sponsorship of the trees will go to local charities through the Rotary Club of Hucknall. Proceeds from refreshment sales provided by the church\, will go to St Mary Magdalene Church. \nThere will be an official ribbon-cutting opening ceremony for the Hucknall Christmas Tree Festival 2025 at 5pm on Wednesday 3rd December. \nPlease Note: there will be a ‘one way system’ around the church to make sure that every tree is seen by all and to ensure access for prams and wheelchairs. \nThere will be a competition\, judged by the general public to find the best tree. There will be an adult and children’s category and voting will be open from Wednesday evening through to Friday evening. Results will be announced at the church around 12.15pm on Saturday 6th December. \nEach visitor to the festival will receive a Hucknall Chirstmas Tree Festival 2025 printed guide\, listing all participants and their chosen tree decoration theme. \nClick here to find out more on the 2025 Christmas Tree Festival website.
URL:http://hucknallparishchurch.org.uk/event/hucknall-christmas-tree-festival-2025/
LOCATION:St Mary Magdalene Church\, Market Place\, Hucknall\, Nottinghamshire\, NG15 7AS
CATEGORIES:Children,Christmas,Families,Fundraising,Outreach,Things to do in Hucknall
ATTACH;FMTTYPE=image/jpeg:http://hucknallparishchurch.org.uk/wp-content/uploads/2025/11/StMM-winter-25-AW-3-christmas-first-1.jpg
END:VEVENT
END:VCALENDAR